BEGIN:VCALENDAR
VERSION:2.0
PRODID:-//Midland Art Crawl//Events//EN
CALSCALE:GREGORIAN
METHOD:PUBLISH
BEGIN:VEVENT
UID:6335@midlandartcrawl.com
DTSTAMP:20260425T230946Z
DTSTART;TZID=America/Chicago:20250606T180000
DTEND;TZID=America/Chicago:20250606T210000
SUMMARY:Hot Art Summer: Midland Art Crawl
DESCRIPTION:Hot Art Summer: Midland Art Crawl Friday\, June 6 | All Across Midland Get ready for the ultimate summer vibe—art\, music\, and cool drinks at some of Midland’s most creative spaces. 🎨🕶️ From Velvet Mesquite to The Blue Door\, Cotton Flat Records\, The Waystone\, The Oaks\, FaFa Gallery\, each stop is just a quick drive […]
END:VEVENT
END:VCALENDAR
