BEGIN:VCALENDAR
VERSION:2.0
PRODID:-//Midland Art Crawl//Events//EN
CALSCALE:GREGORIAN
METHOD:PUBLISH
BEGIN:VEVENT
UID:6553@midlandartcrawl.com
DTSTAMP:20260425T213039Z
DTSTART;TZID=America/Chicago:20250912T180000
DTEND;TZID=America/Chicago:20250912T230000
SUMMARY:Harvest &#038\; Haze: Midland Art Crawl
DESCRIPTION:Harvest & Haze: Midland Art Crawl Join us for a one-night celebration of art\, community\, and fall vibes in the heart of Midland! The Harvest & Haze Crawl will feature local artists\, live entertainment\, signature seasonal cocktails\, curated small bites\, and pop-up experiences across participating venues. This quarter’s crawl embraces the cozy\, golden energy of […]
END:VEVENT
END:VCALENDAR
