BEGIN:VCALENDAR
VERSION:2.0
PRODID:-//Midland Art Crawl//Events//EN
CALSCALE:GREGORIAN
METHOD:PUBLISH
BEGIN:VEVENT
UID:6559@midlandartcrawl.com
DTSTAMP:20260425T194803Z
DTSTART;TZID=America/Chicago:20250820T170000
DTEND;TZID=America/Chicago:20250820T200000
SUMMARY:Art. Cocktails. Community.
DESCRIPTION:Join us for the Midland Art Crawl Mixer @ Leyenda Coffee & Tequila Meet the people behind the Crawl\, explore ways to get involved\, and enjoy a night of local art and signature cocktails. Whether you’re an artist\, volunteer\, local business\, or just love supporting the arts — this night is for you.  Wednesday\, August […]
LOCATION:301 W Ohio Ave\, Midland\, TX 79701
END:VEVENT
END:VCALENDAR
