BEGIN:VCALENDAR
VERSION:2.0
PRODID:-//Midland Art Crawl//Events//EN
CALSCALE:GREGORIAN
METHOD:PUBLISH
BEGIN:VEVENT
UID:7342@midlandartcrawl.com
DTSTAMP:20260425T180424Z
DTSTART;TZID=America/Chicago:20260123T180000
DTEND;TZID=America/Chicago:20260123T230000
SUMMARY:Frost &#038\; Flame: Midland Art Crawl
DESCRIPTION:🌟 About the Event Frost & Flame: The Winter Art Crawl Bundle up and feel the spark—Midland’s beloved Art Crawl returns January 23rd for Frost & Flame\, a night where cold air meets creative heat. Wander through Midland’s most inspiring spaces\, filled with local art\, live music\, and cozy energy that will warm your heart […]
END:VEVENT
END:VCALENDAR
