BEGIN:VCALENDAR
VERSION:2.0
PRODID:-//Midland Art Crawl//Events//EN
CALSCALE:GREGORIAN
METHOD:PUBLISH
BEGIN:VEVENT
UID:7355@midlandartcrawl.com
DTSTAMP:20260425T160629Z
DTSTART;TZID=America/Chicago:20260417T180000
DTEND;TZID=America/Chicago:20260417T230000
SUMMARY:Desert in Bloom | Spring Crawl
DESCRIPTION:🌟 About the Event Desert in Bloom | Spring Crawl Midland Art Crawl returns this spring with Desert in Bloom a celebration of local artistry\, color\, and creativity across Midland. Explore curated venues\, meet artists\, enjoy small bites & sips\, and experience the creative pulse of West Texas in full bloom. Free + open to […]
END:VEVENT
END:VCALENDAR
