BEGIN:VCALENDAR
VERSION:2.0
PRODID:-//Midland Art Crawl//Events//EN
CALSCALE:GREGORIAN
METHOD:PUBLISH
BEGIN:VEVENT
UID:7358@midlandartcrawl.com
DTSTAMP:20260425T143624Z
DTSTART;TZID=America/Chicago:20260828T180000
DTEND;TZID=America/Chicago:20260828T230000
SUMMARY:Paint the Town | Back to School Crawl
DESCRIPTION:About the Event Paint The Town | Back to School Crawl Celebrate the new school year with Paint the Town\, Midland Art Crawl’s back-to-school community art night. The city comes alive with murals\, collaborative sidewalks\, artist activations\, food\, music\, and an explosion of creativity across participating venues. This year\, we’re proud to host our School […]
END:VEVENT
END:VCALENDAR
