BEGIN:VCALENDAR
VERSION:2.0
PRODID:-//Midland Art Crawl//Events//EN
CALSCALE:GREGORIAN
METHOD:PUBLISH
BEGIN:VEVENT
UID:7363@midlandartcrawl.com
DTSTAMP:20260425T161144Z
DTSTART;TZID=America/Chicago:20261204T180000
DTEND;TZID=America/Chicago:20261204T230000
SUMMARY:Merry Midland Art Crawl
DESCRIPTION:About the Event Merry Midland Art Crawl The December 2026 Midland Art Crawl is a citywide celebration of creativity\, transforming venues across Midland into immersive\, one-night-only experiences. Guests will discover visual art\, live music\, and culinary twists at every stop\, each thoughtfully curated to delight the senses. It’s a festive evening to explore\, connect\, and […]
END:VEVENT
END:VCALENDAR
